BEGIN:VCALENDAR
VERSION:2.0
PRODID:icalendar-ruby
CALSCALE:GREGORIAN
BEGIN:VEVENT
DTSTAMP:20260422T133314Z
UID:e2890ba3-5a27-4092-9d82-e84e3ca4ab74
DTSTART;VALUE=DATE:20201108
DESCRIPTION:Property ID# 492970\, Locatoin: On site unless unfavourable wea
 ther\, then at Office.\, Time: 1:00PM
SUMMARY:Auction for 
END:VEVENT
END:VCALENDAR
