BEGIN:VCALENDAR
VERSION:2.0
PRODID:icalendar-ruby
CALSCALE:GREGORIAN
BEGIN:VEVENT
DTSTAMP:20260420T064839Z
UID:23339e7f-dc21-4c2a-b034-6d699e1a30b5
DTSTART;VALUE=DATE:20210218
DESCRIPTION:Property ID# 500202\, Locatoin: Auction Rooms\, 247 Cameron Roa
 d\, Tauranga\, Time: 1:00PM
SUMMARY:Auction for 
END:VEVENT
END:VCALENDAR
