BEGIN:VCALENDAR
VERSION:2.0
PRODID:icalendar-ruby
CALSCALE:GREGORIAN
BEGIN:VEVENT
DTSTAMP:20260422T132910Z
UID:5cc1fbc8-f973-4182-b83e-8b55c5dafbc5
DTSTART;VALUE=DATE:20210307
DESCRIPTION:Property ID# 501442\, Locatoin: In office First National Waihi 
 Beach\, Time: 1:00PM
SUMMARY:Auction for 
END:VEVENT
END:VCALENDAR
