BEGIN:VCALENDAR
VERSION:2.0
PRODID:icalendar-ruby
CALSCALE:GREGORIAN
BEGIN:VEVENT
DTSTAMP:20260420T064822Z
UID:7b5c7c33-8e40-4781-8442-ce8f7e71fdb5
DTSTART;VALUE=DATE:20210729
DESCRIPTION:Property ID# 512678\, Locatoin: 247 Cameron Road\, Tauranga\, T
 ime: 1:00PM
SUMMARY:Auction for 
END:VEVENT
END:VCALENDAR
