BEGIN:VCALENDAR
VERSION:2.0
PRODID:icalendar-ruby
CALSCALE:GREGORIAN
BEGIN:VEVENT
DTSTAMP:20260420T070815Z
UID:cf7fe2de-65cb-4719-a9e1-b5e74eed4b00
DTSTART;VALUE=DATE:20210722
DESCRIPTION:Property ID# 512938\, Locatoin: 247 Cameron Road\, Tauranga\, T
 ime: 1:00PM
SUMMARY:Auction for 
END:VEVENT
END:VCALENDAR
