BEGIN:VCALENDAR
VERSION:2.0
PRODID:icalendar-ruby
CALSCALE:GREGORIAN
BEGIN:VEVENT
DTSTAMP:20260420T070141Z
UID:d4d8c017-fc0e-4fc2-94c2-d66148fa1ec7
DTSTART;VALUE=DATE:20211028
DESCRIPTION:Property ID# 518639\, Locatoin: 247 Cameron Road\, Tauranga\, T
 ime: 1:00PM
SUMMARY:Auction for 
END:VEVENT
END:VCALENDAR
