BEGIN:VCALENDAR
VERSION:2.0
PRODID:icalendar-ruby
CALSCALE:GREGORIAN
BEGIN:VEVENT
DTSTAMP:20260420T064746Z
UID:3498604e-627b-4684-a67f-17c148e624db
DTSTART;VALUE=DATE:20211209
DESCRIPTION:Property ID# 522242\, Locatoin: 247 Cameron Road\, Tauranga\, T
 ime: 1:00PM
SUMMARY:Auction for 
END:VEVENT
END:VCALENDAR
