BEGIN:VCALENDAR
VERSION:2.0
PRODID:icalendar-ruby
CALSCALE:GREGORIAN
BEGIN:VEVENT
DTSTAMP:20260420T070130Z
UID:b8ed29d9-fb5e-468c-afce-f6ba2e53530a
DTSTART;VALUE=DATE:20220407
DESCRIPTION:Property ID# 531525\, Locatoin: 247 Cameron Road\, Tauranga\, T
 ime: 1:00PM
SUMMARY:Auction for 
END:VEVENT
END:VCALENDAR
