BEGIN:VCALENDAR
VERSION:2.0
PRODID:icalendar-ruby
CALSCALE:GREGORIAN
BEGIN:VEVENT
DTSTAMP:20260421T110609Z
UID:08d0e7ff-89dd-42ea-b57d-38b3bc42a2d7
DTSTART;VALUE=DATE:20220818
DESCRIPTION:Property ID# 540319\, Locatoin: 247 Cameron Road (cnr Elizabeth
  Street)\, Tauranga (unless sold prior)\, Time: 1:00PM
SUMMARY:Auction for 
END:VEVENT
END:VCALENDAR
