BEGIN:VCALENDAR
VERSION:2.0
PRODID:icalendar-ruby
CALSCALE:GREGORIAN
BEGIN:VEVENT
DTSTAMP:20260420T065205Z
UID:c1dccf5f-77f1-470a-ba0f-0fa49491d585
DTSTART;VALUE=DATE:20230330
DESCRIPTION:Property ID# 553888\, Time: 1:00PM
SUMMARY:Auction for 
END:VEVENT
END:VCALENDAR
