BEGIN:VCALENDAR
VERSION:2.0
PRODID:icalendar-ruby
CALSCALE:GREGORIAN
BEGIN:VEVENT
DTSTAMP:20260425T134210Z
UID:41927e46-b637-4fc1-b3b1-36aa0b44cdab
DTSTART;VALUE=DATE:20230615
DESCRIPTION:Property ID# 557453\, Locatoin: Auction rooms\, 247 Cameron Rd\
 , Tauranga \, Time: 1:00PM
SUMMARY:Auction for 
END:VEVENT
END:VCALENDAR
