BEGIN:VCALENDAR
VERSION:2.0
PRODID:icalendar-ruby
CALSCALE:GREGORIAN
BEGIN:VEVENT
DTSTAMP:20260425T133304Z
UID:1ff58cd7-d234-411b-b800-5850bc6c3ed5
DTSTART;VALUE=DATE:20230622
DESCRIPTION:Property ID# 557887\, Locatoin: Auction rooms\, 247 Cameron Rd\
 , Tauranga \, Time: 1:00PM
SUMMARY:Auction for 
END:VEVENT
END:VCALENDAR
