BEGIN:VCALENDAR
VERSION:2.0
PRODID:icalendar-ruby
CALSCALE:GREGORIAN
BEGIN:VEVENT
DTSTAMP:20260420T070654Z
UID:a04e6633-4bb0-48e2-92f2-c71de1c3de99
DTSTART;VALUE=DATE:20230829
DESCRIPTION:Property ID# 560070\, Locatoin: EVES Auction Room: 247 Cameron 
 Road\, Tauranga (unless sold prior)	\, Time: 3:00PM
SUMMARY:Auction for 
END:VEVENT
END:VCALENDAR
