BEGIN:VCALENDAR
VERSION:2.0
PRODID:icalendar-ruby
CALSCALE:GREGORIAN
BEGIN:VEVENT
DTSTAMP:20260425T163307Z
UID:82da40df-85a0-478c-8f83-1e0150d4efd7
DTSTART;VALUE=DATE:20231214
DESCRIPTION:Property ID# 566328\, Locatoin: EVES Auction Rooms\, 247 Camero
 n Road Tauranga\, Time: 12:00PM
SUMMARY:Auction for 
END:VEVENT
END:VCALENDAR
