BEGIN:VCALENDAR
VERSION:2.0
PRODID:icalendar-ruby
CALSCALE:GREGORIAN
BEGIN:VEVENT
DTSTAMP:20260420T070147Z
UID:8376313c-9266-4062-a69a-8363143291af
DTSTART;VALUE=DATE:20240222
DESCRIPTION:Property ID# 569445\, Locatoin: 247 Cameron Road\, Tauranga\, T
 ime: 1:00PM
SUMMARY:Auction for 
END:VEVENT
END:VCALENDAR
