BEGIN:VCALENDAR
VERSION:2.0
PRODID:icalendar-ruby
CALSCALE:GREGORIAN
BEGIN:VEVENT
DTSTAMP:20260420T084103Z
UID:3470f020-ab9c-4a83-b910-5393dc5d2e57
DTSTART;VALUE=DATE:20240306
DESCRIPTION:Property ID# 570579\, Locatoin: In Rooms\, 411 Cameron Road\, T
 auranga\, Time: 12:00PM
SUMMARY:Auction for 
END:VEVENT
END:VCALENDAR
