BEGIN:VCALENDAR
VERSION:2.0
PRODID:icalendar-ruby
CALSCALE:GREGORIAN
BEGIN:VEVENT
DTSTAMP:20260425T133607Z
UID:831fa39a-221f-4bc8-859c-fc76c4600153
DTSTART;VALUE=DATE:20240613
DESCRIPTION:Property ID# 575874\, Locatoin: 247 Cameron Road\, Tauranga\, T
 ime: 1:00PM
SUMMARY:Auction for 
END:VEVENT
END:VCALENDAR
