BEGIN:VCALENDAR
VERSION:2.0
PRODID:icalendar-ruby
CALSCALE:GREGORIAN
BEGIN:VEVENT
DTSTAMP:20260419T170201Z
UID:f88051bc-de9b-4cb6-8897-d32cb1a77017
DTSTART;VALUE=DATE:20240717
DESCRIPTION:Property ID# 577336\, Locatoin: Vosper Realty Ltd\, 182 Devonpo
 rt Rd\, Tauranga\, Time: 4:00PM
SUMMARY:Auction for 
END:VEVENT
END:VCALENDAR
