BEGIN:VCALENDAR
VERSION:2.0
PRODID:icalendar-ruby
CALSCALE:GREGORIAN
BEGIN:VEVENT
DTSTAMP:20260425T133632Z
UID:557c7c7e-0a5a-4543-bec5-a232c120fa99
DTSTART;VALUE=DATE:20240808
DESCRIPTION:Property ID# 578938\, Locatoin: Auction rooms\, 247 Cameron Rd\
 , Tauranga \, Time: 1:00PM
SUMMARY:Auction for 
END:VEVENT
END:VCALENDAR
