BEGIN:VCALENDAR
VERSION:2.0
PRODID:icalendar-ruby
CALSCALE:GREGORIAN
BEGIN:VEVENT
DTSTAMP:20260421T165650Z
UID:7b2ea9b8-4cb6-4d5a-b863-e752503ffad2
DTSTART;VALUE=DATE:20241113
DESCRIPTION:Property ID# 582806\, Locatoin: at 11:30am (unless sold prior) 
 Harcourts Auction Rooms\, 1 Third Avenue\, Tauranga\, Time: 12:00PM
SUMMARY:Auction for 
END:VEVENT
END:VCALENDAR
