BEGIN:VCALENDAR
VERSION:2.0
PRODID:icalendar-ruby
CALSCALE:GREGORIAN
BEGIN:VEVENT
DTSTAMP:20260425T163313Z
UID:dd8fcc46-8faa-43cc-af72-322a8d24b5c7
DTSTART;VALUE=DATE:20241121
DESCRIPTION:Property ID# 583167\, Locatoin: Auction Rooms\, 247 Cameron Roa
 d\, Tauranga. Unless sold prior\, Time: 1:00PM
SUMMARY:Auction for 
END:VEVENT
END:VCALENDAR
