BEGIN:VCALENDAR
VERSION:2.0
PRODID:icalendar-ruby
CALSCALE:GREGORIAN
BEGIN:VEVENT
DTSTAMP:20260421T165354Z
UID:ca0653f9-e695-4a1b-9a31-5ddac7d70557
DTSTART;VALUE=DATE:20241120
DESCRIPTION:Property ID# 583593\, Locatoin: at 12:00pm (unless sold prior) 
 Harcourts Auction Rooms\, 1 Third Avenue\, Tauranga\, Time: 12:00PM
SUMMARY:Auction for 
END:VEVENT
END:VCALENDAR
