BEGIN:VCALENDAR
VERSION:2.0
PRODID:icalendar-ruby
CALSCALE:GREGORIAN
BEGIN:VEVENT
DTSTAMP:20260425T134301Z
UID:93b6307a-76df-4e83-b350-27c4da75f39a
DTSTART;VALUE=DATE:20250314
DESCRIPTION:Property ID# 588713\, Time: 11:00AM
SUMMARY:Auction for 
END:VEVENT
END:VCALENDAR
