BEGIN:VCALENDAR
VERSION:2.0
PRODID:icalendar-ruby
CALSCALE:GREGORIAN
BEGIN:VEVENT
DTSTAMP:20260425T191507Z
UID:8e89add3-ea3c-4dbd-b84e-949cab723dfd
DTSTART;VALUE=DATE:20250501
DESCRIPTION:Property ID# 590633\, Locatoin: EVES Auction Rooms\, 247 Camero
 n Road Tauranga\, Time: 1:00PM
SUMMARY:Auction for 
END:VEVENT
END:VCALENDAR
