BEGIN:VCALENDAR
VERSION:2.0
PRODID:icalendar-ruby
CALSCALE:GREGORIAN
BEGIN:VEVENT
DTSTAMP:20260425T192112Z
UID:da1074bf-6e0f-47ec-b3d0-6f83f9f6ed81
DTSTART;VALUE=DATE:20250508
DESCRIPTION:Property ID# 591153\, Locatoin: Auction Rooms\, 247 Cameron Roa
 d\, Tauranga. Unless sold prior\, Time: 1:00PM
SUMMARY:Auction for 
END:VEVENT
END:VCALENDAR
