BEGIN:VCALENDAR
VERSION:2.0
PRODID:icalendar-ruby
CALSCALE:GREGORIAN
BEGIN:VEVENT
DTSTAMP:20260421T084201Z
UID:e1061bc8-8045-4bc9-a03f-fd71ec2f2346
DTSTART;VALUE=DATE:20250514
DESCRIPTION:Property ID# 592118\, Locatoin: Harcourts Auction Room\, 1 Thir
 d Avenue\, Tauranga\, Time: 11:30AM
SUMMARY:Auction for 
END:VEVENT
END:VCALENDAR
