BEGIN:VCALENDAR
VERSION:2.0
PRODID:icalendar-ruby
CALSCALE:GREGORIAN
BEGIN:VEVENT
DTSTAMP:20260420T084902Z
UID:1874723a-a3b7-47b8-9348-642e55986485
DTSTART;VALUE=DATE:20250522
DESCRIPTION:Property ID# 592630\, Locatoin: Harcourts\, 1 Third Avenue\, Ta
 uranga\, (Unless Sold Prior)\, Time: 11:30AM
SUMMARY:Auction for 
END:VEVENT
END:VCALENDAR
