BEGIN:VCALENDAR
VERSION:2.0
PRODID:icalendar-ruby
CALSCALE:GREGORIAN
BEGIN:VEVENT
DTSTAMP:20260425T163022Z
UID:39bd4825-70d7-43e1-ba32-03fe19ada888
DTSTART;VALUE=DATE:20250528
DESCRIPTION:Property ID# 592677\, Time: 3:00PM
SUMMARY:Auction for 
END:VEVENT
END:VCALENDAR
