BEGIN:VCALENDAR
VERSION:2.0
PRODID:icalendar-ruby
CALSCALE:GREGORIAN
BEGIN:VEVENT
DTSTAMP:20260425T133322Z
UID:9d7104d9-54d5-4968-8cb1-ff95c3ca4ffb
DTSTART;VALUE=DATE:20250911
DESCRIPTION:Property ID# 596358\, Locatoin: 247 Cameron Road\, Tauranga\, T
 ime: 1:00PM
SUMMARY:Auction for 
END:VEVENT
END:VCALENDAR
