BEGIN:VCALENDAR
VERSION:2.0
PRODID:icalendar-ruby
CALSCALE:GREGORIAN
BEGIN:VEVENT
DTSTAMP:20260425T133632Z
UID:211244e5-1dea-4436-af1f-54333687e334
DTSTART;VALUE=DATE:20250925
DESCRIPTION:Property ID# 596957\, Time: 12:00PM
SUMMARY:Auction for 
END:VEVENT
END:VCALENDAR
