BEGIN:VCALENDAR
VERSION:2.0
PRODID:icalendar-ruby
CALSCALE:GREGORIAN
BEGIN:VEVENT
DTSTAMP:20260425T133732Z
UID:c5d2b0a1-39a5-4d14-9f1b-2f2cd7cd1a8e
DTSTART;VALUE=DATE:20251016
DESCRIPTION:Property ID# 597926\, Locatoin: Auction rooms\, 247 Cameron Rd\
 , Tauranga \, Time: 1:00PM
SUMMARY:Auction for 
END:VEVENT
END:VCALENDAR
