BEGIN:VCALENDAR
VERSION:2.0
PRODID:icalendar-ruby
CALSCALE:GREGORIAN
BEGIN:VEVENT
DTSTAMP:20260421T165833Z
UID:87ac4d0a-4ce8-4d89-b269-6e32e51d5573
DTSTART;VALUE=DATE:20251029
DESCRIPTION:Property ID# 598714\, Locatoin: at 11:30am (unless sold prior) 
 Harcourts Auction Rooms\, 1 Third Avenue\, Tauranga\, Time: 12:00PM
SUMMARY:Auction for 
END:VEVENT
END:VCALENDAR
