BEGIN:VCALENDAR
VERSION:2.0
PRODID:icalendar-ruby
CALSCALE:GREGORIAN
BEGIN:VEVENT
DTSTAMP:20260425T163307Z
UID:f23dcd8c-00f9-4c9c-8526-339111c03aea
DTSTART;VALUE=DATE:20251218
DESCRIPTION:Property ID# 600831\, Locatoin: EVES Auction Rooms\, 247 Camero
 n Road Tauranga\, Time: 12:00PM
SUMMARY:Auction for 
END:VEVENT
END:VCALENDAR
