BEGIN:VCALENDAR
VERSION:2.0
PRODID:icalendar-ruby
CALSCALE:GREGORIAN
BEGIN:VEVENT
DTSTAMP:20260421T165833Z
UID:bf3dd4bf-34b5-4e4c-9cee-e843a3a21a24
DTSTART;VALUE=DATE:20260128
DESCRIPTION:Property ID# 601871\, Locatoin: at 11:30am (unless sold prior) 
 Harcourts Auction Rooms\, 1 Third Avenue\, Tauranga\, Time: 12:00PM
SUMMARY:Auction for 
END:VEVENT
END:VCALENDAR
