BEGIN:VCALENDAR
VERSION:2.0
PRODID:icalendar-ruby
CALSCALE:GREGORIAN
BEGIN:VEVENT
DTSTAMP:20260419T164601Z
UID:bbf56483-edf8-4940-b413-63ad20c3bdc5
DTSTART;VALUE=DATE:20260422
DESCRIPTION:Property ID# 606076\, Locatoin: Harcourts Auction Rooms\, 1 Thi
 rd Avenue\, Tauranga\, Time: 11:30AM
SUMMARY:Auction for 33 Lydbrook Place
END:VEVENT
END:VCALENDAR
