BEGIN:VCALENDAR
VERSION:2.0
PRODID:icalendar-ruby
CALSCALE:GREGORIAN
BEGIN:VEVENT
DTSTAMP:20260425T103219Z
UID:bd8db652-d7ed-49b7-ad62-993e64304be0
DTSTART;VALUE=DATE:20260506
DESCRIPTION:Property ID# 606439\, Locatoin: Harcourts Auction Rooms\, 1 Thi
 rd Avenue\, Tauranga\, Time: 11:30AM
SUMMARY:Auction for 22 Milton Road
END:VEVENT
END:VCALENDAR
