BEGIN:VCALENDAR
VERSION:2.0
PRODID:icalendar-ruby
CALSCALE:GREGORIAN
BEGIN:VEVENT
DTSTAMP:20260422T122401Z
UID:591f6563-d9eb-4b2c-a957-4f9dfb54a81b
DTSTART;VALUE=DATE:20260513
DESCRIPTION:Property ID# 606748\, Locatoin: Ray White Greerton (unless sold
  prior)\, Time: 1:00PM
SUMMARY:Auction for 800 Pyes Pa Road
END:VEVENT
END:VCALENDAR
