BEGIN:VCALENDAR
VERSION:2.0
PRODID:icalendar-ruby
CALSCALE:GREGORIAN
BEGIN:VEVENT
DTSTAMP:20260422T114135Z
UID:668db19c-9f56-4fb0-84b2-ea4f3ecb2efd
DTSTART;VALUE=DATE:20260506
DESCRIPTION:Property ID# 606900\, Locatoin: Harcourts Auction Rooms\, 1 Thi
 rd Avenue\, Tauranga\, Time: 12:00PM
SUMMARY:Auction for 10A Links Avenue
END:VEVENT
END:VCALENDAR
