BEGIN:VCALENDAR
VERSION:2.0
PRODID:icalendar-ruby
CALSCALE:GREGORIAN
BEGIN:VEVENT
DTSTAMP:20260425T135225Z
UID:618304c2-0170-4613-b132-c0e1f583f2ac
DTSTART;VALUE=DATE:20260521
DESCRIPTION:Property ID# 607036\, Locatoin: Auction Rooms\, 247 Cameron Roa
 d\, Tauranga. Unless sold prior\, Time: 1:00PM
SUMMARY:Auction for 35 Clivedene Street
END:VEVENT
END:VCALENDAR
