BEGIN:VCALENDAR
VERSION:2.0
PRODID:icalendar-ruby
CALSCALE:GREGORIAN
BEGIN:VEVENT
DTSTAMP:20260421T110807Z
UID:ea1217ac-c08c-427a-b950-72def3f7ed87
DTSTART;VALUE=DATE:20260604
DESCRIPTION:Property ID# 607038\, Time: 2:00PM
SUMMARY:Auction for 7F Owens Place
END:VEVENT
END:VCALENDAR
