BEGIN:VCALENDAR
VERSION:2.0
PRODID:icalendar-ruby
CALSCALE:GREGORIAN
BEGIN:VEVENT
DTSTAMP:20260421T111409Z
UID:40779cfe-5621-4246-b9ac-e132000df561
DTSTART;VALUE=DATE:20260513
DESCRIPTION:Property ID# 607082\, Locatoin: at 11:30am\, Harcourts Auction 
 Room\, 1 Third Avenue\, Tauranga\, Time: 12:00PM
SUMMARY:Auction for 2 Santa Fe Key
END:VEVENT
END:VCALENDAR
