BEGIN:VCALENDAR
VERSION:2.0
PRODID:icalendar-ruby
CALSCALE:GREGORIAN
BEGIN:VEVENT
DTSTAMP:20260425T135953Z
UID:d5b68b89-1e3a-4894-b1a7-b9f7dbf588e8
DTSTART;VALUE=DATE:20260513
DESCRIPTION:Property ID# 607115\, Time: 1:00PM
SUMMARY:Auction for 32F Bunyan Road
END:VEVENT
END:VCALENDAR
