BEGIN:VCALENDAR
VERSION:2.0
PRODID:icalendar-ruby
CALSCALE:GREGORIAN
BEGIN:VEVENT
DTSTAMP:20260423T141404Z
UID:43ced0e6-679f-45d2-b1ca-0fb27cd5f409
DTSTART;VALUE=DATE:20260514
DESCRIPTION:Property ID# 607140\, Locatoin: Eves Auction Rooms\, 247 Camero
 n Road\, Tauranga\, Time: 12:00PM
SUMMARY:Auction for 655 Grenada Street
END:VEVENT
END:VCALENDAR
