BEGIN:VCALENDAR
VERSION:2.0
PRODID:icalendar-ruby
CALSCALE:GREGORIAN
BEGIN:VEVENT
DTSTAMP:20260419T164555Z
UID:20fd9711-823a-471b-bd10-7e4a67ce7aa1
DTSTART;TZID=Pacific/Auckland:20260419T110000
DTEND;TZID=Pacific/Auckland:20260419T113000
DESCRIPTION:Property ID# 606076
SUMMARY:Openhome for 33 Lydbrook Place
END:VEVENT
END:VCALENDAR
