BEGIN:VCALENDAR
VERSION:2.0
PRODID:icalendar-ruby
CALSCALE:GREGORIAN
BEGIN:VEVENT
DTSTAMP:20260420T214430Z
UID:39198877-c997-4962-a9e8-a68063b357ff
DTSTART;TZID=Pacific/Auckland:20260426T140000
DTEND;TZID=Pacific/Auckland:20260426T143000
DESCRIPTION:Property ID# 601812
SUMMARY:Openhome for 15 Banksia Lane
END:VEVENT
END:VCALENDAR
