BEGIN:VCALENDAR
VERSION:2.0
PRODID:icalendar-ruby
CALSCALE:GREGORIAN
BEGIN:VEVENT
DTSTAMP:20260423T141503Z
UID:b3678e28-9f42-456b-b5b5-ecf0fec4ca68
DTSTART;TZID=Pacific/Auckland:20260426T133000
DTEND;TZID=Pacific/Auckland:20260426T140000
DESCRIPTION:Property ID# 607140
SUMMARY:Openhome for 655 Grenada Street
END:VEVENT
END:VCALENDAR
